BEGIN:VCALENDAR
VERSION:2.0
PRODID:icalendar-ruby
CALSCALE:GREGORIAN
X-WR-TIMEZONE:Europe/Helsinki
BEGIN:VTIMEZONE
TZID:Europe/Helsinki
BEGIN:DAYLIGHT
DTSTART:20260329T040000
TZOFFSETFROM:+0200
TZOFFSETTO:+0300
RRULE:FREQ=YEARLY;BYDAY=-1SU;BYMONTH=3
TZNAME:EEST
END:DAYLIGHT
BEGIN:STANDARD
DTSTART:20261025T030000
TZOFFSETFROM:+0300
TZOFFSETTO:+0200
RRULE:FREQ=YEARLY;BYDAY=-1SU;BYMONTH=10
TZNAME:EET
END:STANDARD
END:VTIMEZONE
BEGIN:VEVENT
DTSTAMP:20260421T190747
UID:m-team.myclub.fi-8970916
DTSTART;TZID=Europe/Helsinki:20250903T180000
DTEND;TZID=Europe/Helsinki:20250903T180000
DESCRIPTION:M-Team salibandykoulu Haagan ala-asteella Ikäluokat: 9-11v\nOh
 jaaja: Pietari Mustakallio Salibandykouluissa päätoiminta keskittyy sali
 bandyyn\, leikkeihin sekä liikuntataitoihin. Laji on esillä vahvasti ja 
 salibandyyn sekä varusteisiin tutustutaan yhdessä. Tunnit on suunniteltu
  hyvin ja paikalla on aina kokeneet ohjaajat. Motoriset taidot pääsevät
  esille\, kun liikutaan\, pelataan ja leikitään yhdessä ohjaajan kanssa
 . Tunnista otetaan kaikki irti\, ottaen huomioon jokaisen lapsen ikätaso.
 \nTapahtuman tavoite on olla lapselle mielekäs ja antoisa. Ohjaajat jakav
 at lapset tarvittaessa pienempiin ryhmiin\, jolloin ohjaaminen ja kohtaami
 nen sekä ryhmän hallinta helpottuu ja luo lapselle turvallisen ympärist
 ön oppia uutta.\nTutustumiseen ei tarvitse kuin urheilu/sisäkengät. Ohj
 aajalta löytyy tarvittaessa sekä mailoja että turvalaseja lainaan. \nM-
 Teamin salibandykouluryhmät toimivat halukkaille junioreille polkuna ikä
 kausijoukkueeseen\, joskaan tämän ei tarvitse olla lajiin tutustumisen t
 avoite. Hinta: Jäsenmaksu 40e (1 krt) sekä 49e/kk (kuukausilaskutus) Tut
 ustumiskäynti on ilmainen\, eikä sido maksuihin. Salibandykoulu on tauol
 la koulujen loma-aikoina. Mikäli salin käyttövuoro perutaan seurasta ri
 ippumattomasta syystä (esim. vaalit\, juhlat yms)\, ei vuoroa voida hyvit
 tää.  Hinta sisältää: Lainavälineet\, ohjauksen\, kerhopaidan\, kerh
 oturnauksen\, sekä yhden sisäänpääsyn koko perheelle edustuksen kotio
 ttelutapahtumaan.\nTiedossa olevat peruutukset:\n17.12.2025\, 24.12.2025\,
  31.12.2025\, 22.4.2026\, 27.5.2026\n Lisätietoja: Toiminnanjohtaja Teemu
  Kalinainen\, 050-4081501 / teemu.kalinainen@m-team.fi\n\nhttps://m-team.m
 yclub.fi/flow/events/8970916
LOCATION:Haagan peruskoulu\, Isonnevantie 16\, 00320 Helsinki\, Suomi
SEQUENCE:0
SUMMARY:Salibandykoulu: STADIUM SBK Haaga 9-11v\, Haagan ala-aste\, 25-26 k
 eskiviikkoisin klo 18.00-19.00
URL;VALUE=URI:https://m-team.myclub.fi/flow/events/8970916
END:VEVENT
END:VCALENDAR
